BEGIN:VCALENDAR
VERSION:2.0
PRODID:-//Key To Health - ECPv6.15.20//NONSGML v1.0//EN
CALSCALE:GREGORIAN
METHOD:PUBLISH
X-ORIGINAL-URL:https://keytohealth.nl
X-WR-CALDESC:Evenementen voor Key To Health
REFRESH-INTERVAL;VALUE=DURATION:PT1H
X-Robots-Tag:noindex
X-PUBLISHED-TTL:PT1H
BEGIN:VTIMEZONE
TZID:Europe/Amsterdam
BEGIN:DAYLIGHT
TZOFFSETFROM:+0100
TZOFFSETTO:+0200
TZNAME:CEST
DTSTART:20190331T010000
END:DAYLIGHT
BEGIN:STANDARD
TZOFFSETFROM:+0200
TZOFFSETTO:+0100
TZNAME:CET
DTSTART:20191027T010000
END:STANDARD
BEGIN:DAYLIGHT
TZOFFSETFROM:+0100
TZOFFSETTO:+0200
TZNAME:CEST
DTSTART:20200329T010000
END:DAYLIGHT
BEGIN:STANDARD
TZOFFSETFROM:+0200
TZOFFSETTO:+0100
TZNAME:CET
DTSTART:20201025T010000
END:STANDARD
BEGIN:DAYLIGHT
TZOFFSETFROM:+0100
TZOFFSETTO:+0200
TZNAME:CEST
DTSTART:20210328T010000
END:DAYLIGHT
BEGIN:STANDARD
TZOFFSETFROM:+0200
TZOFFSETTO:+0100
TZNAME:CET
DTSTART:20211031T010000
END:STANDARD
END:VTIMEZONE
BEGIN:VEVENT
DTSTART;TZID=Europe/Amsterdam:20201003T133000
DTEND;TZID=Europe/Amsterdam:20201003T180000
DTSTAMP:20260422T121735
CREATED:20200715T142711Z
LAST-MODIFIED:20200819T132211Z
UID:10000011-1601731800-1601748000@keytohealth.nl
SUMMARY:De helende kracht van medicinale paddenstoelen
DESCRIPTION:Lezing over de helende kracht van medicinale paddenstoelen met Martin Powell \nDE SPREKER:\nMartin Powell\, biochemist\, Chinese herbalist\, editor van het Clinical Journal of Mycology van 1997- 2009\, redacteur voor Mycology Press \nMedicinale paddenstoelen hebben een lange historie mbt genezing in vele culturen\, maar zijn vooral bekend uit de TCM traditionele Chinese Geneeskunde. \nBepaalde stoffen uit paddenstoelen hebben een geneeskrachtige werking\, dit is aangetoond in divers klinisch onderzoek. In China\, Japan en Korea is mycotherapie al vele duizenden jaren een onderdeel van de traditionele geneeskunde. \nVeel paddenstoelen bevatten polysacchariden waaronder betaglucanen\, die hebben een medicinale werking op het immuunsysteem en vele biochemische processen in het lichaam. Maar ook bevatten ze vitaminen\, mineralen\, antioxidanten.\nHet heeft effect onder andere op je microbioom\, zenuwen\, hormonen\, bloedvaten\, lever\, longen\, hart\, nieren en voortplantingsorganen\, maar eigenlijk kunnen paddenstoelen vrijwel voor alles ingezet worden. \nWereldwijd worden er verschillende medicinale paddenstoelen ingezet bij diverse ziektes en klachten met een goed resultaat\, waaronder bij:\n– kanker\n– virussen\n– bacterie en schimmel infecties\n– darmproblemen\n– hart en vaatziekten\n– hormonale klachten\n– huidziekten\n– auto-immuunziekten\n– libido\n– diabetes\n– allergieën\n– ontstekingen\n– Hoog cholesterol\n– long\, lever en nierziekten\n– mentale klachten \nIN DEZE LEZING:\n– De medicinale werking van de 10 bekendste medicinale paddenstoelen\n– De werking van de paddenstoelen op het immuunsysteem / microbioom en alle belangrijke processen\n– Op welke ziektebeelden je het kunt toepassen\n– De verschillen van extracten en poeders\n– De TCM kennis van medicinale paddenstoelen\n– Het gebruik van medicinale paddenstoelen naast medicijnen\n– Het effect van deze paddenstoelen op kwaliteit van leven\n– Het effect van paddenstoelen om te voorkomen dat je ziek wordt\n– Het effect van paddenstoelen voor athleten en sporters \nPaddenstoelen die besproken gaan worden zijn:\nReishi\, Chaga\, Poria Cocos\, Cordyceps\, Turkey Tail\, Lentinan\, Agaricus Blazei\, Maitake\, Lions Mane\, Grifola Umbellata \nQ & A\nJe kunt ook jouw persoonlijke gezondheidsvraag stellen aan Martin Powell. \nSilvia Hoevenaar biedt holistische health coaching waarin gebruik gemaakt wordt van medicinale paddenstoelen. \nINFO:\nTickets : €35\nLocatie: Zwaanshoek – Noord Holland\nGratis parkeren\nVlakbij Schiphol en een treinstation \nlink facebook
URL:https://keytohealth.nl/event/de-helende-kracht-van-medicinale-paddenstoelen/
LOCATION:Quinta Essentia\, Spieringweg 913\, Zwaanshoek\, Noord-Holland\, 2042PK\, Nederland
CATEGORIES:Medicinale paddenstoelen
ORGANIZER;CN="Key To Health":MAILTO:silvia@keytohealth.nl
GEO:52.3231007;4.6384544
X-APPLE-STRUCTURED-LOCATION;VALUE=URI;X-ADDRESS=Quinta Essentia Spieringweg 913 Zwaanshoek Noord-Holland 2042PK Nederland;X-APPLE-RADIUS=500;X-TITLE=Spieringweg 913:geo:4.6384544,52.3231007
END:VEVENT
BEGIN:VEVENT
DTSTART;TZID=Europe/Amsterdam:20200712T143000
DTEND;TZID=Europe/Amsterdam:20200712T180000
DTSTAMP:20260422T121735
CREATED:20200611T071622Z
LAST-MODIFIED:20200709T061625Z
UID:10000010-1594564200-1594576800@keytohealth.nl
SUMMARY:Inzicht in kanker en zelfhelend vermogen met Pierre Capel
DESCRIPTION:In deze lezing krijg je vele inzichten van emeritis professor immunologie\, die heel zijn leven onderzoek heeft gedaan naar hoe het menselijk lichaam werkt in combinatie met stress en emoties m.b.t. allerlei ziekten beelden\, waaronder kanker. We gaan dieper in op hoe kankercellen ontstaan en groeien en wat je zelf kunt doen om je zelfhelend vermogen te activeren. Je hoort van Pierre Capel hoe wij zelf bepaalde vitale levensprocessen en onze genen zelf kunnen aansturen. Dit doen we volgens de nieuwste wetenschappelijke inzichten\, die duidelijk maken hoe onze emoties\, via de hersenen het gebruik van ons DNA aansturen. Dit is de wetenschap van epigenetica. Positieve en negatieve gevoelens hebben een onvoorstelbaar sterke werking op het ontstaan en verloop van kanker. Dit gaat hij deze middag aan jou uitleggen. Maar nog belangrijker welke dingen jij zelf kunt doen om jou zelfhelend vermogen te versterken. \nDe spreker:\n \nPierre van Capel is een emeritus hoogleraar experimentele immunologie\, die zich bezighield met de wetenschap. Waaronder kwantummechanica en het effect van stress en emoties op ons DNA. Daarnaast is hij is de auteur van het boek ‘Het Emotionele DNA’. Dus geen adviezen over medicatie\, maar nuttige tips om jouw lichaam gezond en in balans te krijgen en hoe je je levensverwachting verlengt. Naast de zeer verhelderende theorie\, wordt ook de praktijk beoefend door middel van oefeningen hoe je jouw systeem aanzet tot zelfhelend vermogen. \nWat leer je in deze workshop:\n– Hoe emoties en stress vele biochemische processen in het lichaam beïnvloeden die de kanker laten groeien of krimpen\n– Hoe mutaties in het DNA plaatsvinden – Hoe kankercellen muteren\n– Hoe reparatie of beschadiging optreed in de cellen en DNA\n– Hoe tumoren zich in het lichaam vormen – Het effect van telomeren op kanker\n– Hoe je zelf het lichaam activeert tot heling\n– Effect van meditatie op genezing en alle biochemische processen \nPraktische info:\nGratis parkeren Vlakbij Haarlem / Hoofddorp\n30 minuten vanaf het station Haarlem met bus 300 (gaat elke 5 minuten vanaf Haarlem\, Amsterdam en Schiphol)\nTickets €30 \n(link facebook) 
URL:https://keytohealth.nl/event/inzicht-in-kanker-en-zelfhelend-vermogen-met-pierre-capel-2/
LOCATION:Quinta Essentia\, Spieringweg 913\, Zwaanshoek\, Noord-Holland\, 2042PK\, Nederland
CATEGORIES:Gezondheid
ORGANIZER;CN="Key To Health":MAILTO:silvia@keytohealth.nl
GEO:52.3231007;4.6384544
X-APPLE-STRUCTURED-LOCATION;VALUE=URI;X-ADDRESS=Quinta Essentia Spieringweg 913 Zwaanshoek Noord-Holland 2042PK Nederland;X-APPLE-RADIUS=500;X-TITLE=Spieringweg 913:geo:4.6384544,52.3231007
END:VEVENT
BEGIN:VEVENT
DTSTART;TZID=Europe/Amsterdam:20200621T143000
DTEND;TZID=Europe/Amsterdam:20200621T180000
DTSTAMP:20260422T121735
CREATED:20200523T174943Z
LAST-MODIFIED:20200615T143104Z
UID:10000009-1592749800-1592762400@keytohealth.nl
SUMMARY:Stap uit je angst en in je kracht
DESCRIPTION:Hoe zou het zijn als je jouw wereldbeeld kunt switchen om vanuit angst naar vertrouwen en kracht te gaan?\nOm je bewustzijn te verruimen?\nWe worden vanuit verschillende systemen heel ons leven beïnvloed en nooit leren we hoe we in onze kracht kunnen staan.\nNiet qua je emoties\, je zelfvertrouwen\, financieel\, je immuunsysteem\, energetisch.\nDat is een weg die je zelf moet bewandelen\, alleen lukt dat niet altijd\, omdat je niet weet hoe. En het helpt ook niet mee als alles wat er nu gebeurt nogal onzeker is om je heen.\nDaarom bied ik deze dag aan\, waar jij weer de tools krijgt die je zelf kunt toepassen om wél in je kracht te gaan staan. \nDeze middag gaan we de verschillende aspecten doornemen om jou de inzichten en tools te geven\, die jou gaan helpen om weer meer vertrouwen te hebben in:\n⚛️ jezelf\n⚛️ je lichaam\n⚛️ de wereld\n⚛️ je toekomst \nHoe gaan we dat doen?\nWaar jij echt profijt van gaat hebben zijn de volgende punten\, die we gaan doornemen:\n✔️ Connectie body\, mind & soul\n✔️ De kracht van je overtuiging\n✔️ De kracht van de Universele wetten (incl de Wet van de Aantrekkingskracht)\n✔️ De kracht van gedachten\, focus\, emoties & woorden\n✔️ De kracht van de juiste voeding\n✔️ De kracht van meditatie\n✔️ De kracht van je intuïtie\n✔️ Durven loslaten\n✔️ Leren leven in flow\n✔️ Hoe verhoog je je frequentie\n✔️ Het grotere plaatje wat er nu in de wereld aan de hand is en waar het heen gaat \nKortom een hele inspirerende middag!\nHeb jij zin om het roer om te gooien en meer positiviteit zelfverzekerdheid te ervaren?\nNa deze dag ga je absoluut super positief\, geïnspireerd en in je kracht naar huis. \nIk zie je graag op zondag 21 juni! \nPraktische informatie:\n* Locatie Quinta Essentia\n* Tickets €25\n* Gratis parkeren\n* Vlakbij Haarlem\n* 30 minuten vanaf het station Haarlem met bus 300 (gaat elke 5 minuten vanaf Amsterdam\, Schiphol en Haarlem) \nEmail als je aanwezig wilt zijn naar silvia@keytohealth.nl \n(link facebook) 
URL:https://keytohealth.nl/event/stap-uit-je-angst-en-in-je-kracht/
LOCATION:Quinta Essentia\, Spieringweg 913\, Zwaanshoek\, Noord-Holland\, 2042PK\, Nederland
ORGANIZER;CN="Key To Health":MAILTO:silvia@keytohealth.nl
GEO:52.3231007;4.6384544
X-APPLE-STRUCTURED-LOCATION;VALUE=URI;X-ADDRESS=Quinta Essentia Spieringweg 913 Zwaanshoek Noord-Holland 2042PK Nederland;X-APPLE-RADIUS=500;X-TITLE=Spieringweg 913:geo:4.6384544,52.3231007
END:VEVENT
BEGIN:VEVENT
DTSTART;TZID=Europe/Amsterdam:20200607T143000
DTEND;TZID=Europe/Amsterdam:20200607T180000
DTSTAMP:20260422T121735
CREATED:20200523T113705Z
LAST-MODIFIED:20200607T091255Z
UID:10000008-1591540200-1591552800@keytohealth.nl
SUMMARY:Hoe stress je ziek maakt & zelfhelend vermogen | Pierre Capel
DESCRIPTION:Wat zou chronische angst met je DNA\, je lichaam en je immuunsysteem doen?\nEn hoe serieus moet je alle regels nemen die worden opgelegd door de overheid?\nEn leer veel over je zelfhelend vermogen \nDeze lezing wordt gegeven door Pierre Capel en hij is emeritus professor immunologie\nEen wetenschapper die niet wordt gefinancierd door multinationals en je haarfijn weet uit te leggen wat al die stressvolle en angstige emoties op DNA\, hormoon\, neurologisch en microbioom niveau met je doet. \nChronische angst en stress is slopend voor je lichaam en na deze middag weet je precies hoe groot het effect is\, maar nog belangrijker\nJe krijgt een van de meest praktische en effectieve tools mee die jou helpen om deze schade weer te herstellen en jou in rust te krijgen. \nDit doet Pierre volgens de nieuwste wetenschappelijke inzichten\, die duidelijk maken hoe onze emoties\, via de hersenen het gebruik van ons DNA aansturen. Dit is de wetenschap van epigenetica. Positieve en negatieve gevoelens hebben een onvoorstelbaar sterke werking op het ontstaan en verloop van allerlei ziekten\, zoals onvruchtbaarheid\, aderverkalking\, depressie\, kanker\, diabetes etc.\, maar ook bij symptomen als pijn. \nHet wordt steeds duidelijker dat gevoelens verbonden zijn aan keiharde biochemie. Zij zijn niet alleen van invloed op het ontstaan en verloop van ziekten\, maar ook bepalend voor de gezondheid en zelfs onze levensduur. In de epigenetica is aangetoond dat specifieke genen wisselend aan of uit worden gezet\, afhankelijk van de leefomstandigheden en emoties.\nBij stress worden vele genen veranderd en bij langdurige stress lijdt dit tot sterk verhoogde kans op ziekten. \nDe spreker\nPierre Capel is een emeritus hoogleraar experimentele immunologie aan de Universiteit\, die zich bezighield met de wetenschap. Waaronder kwantummechanica en het effect van stress en emoties op ons DNA. Daarnaast is hij is de auteur van het boek ‘Het Emotionele DNA.En Pierre werkt ook regelmatig samen met Wim Hof. Pierre is een kei in deze materie uitleggen op een duidelijke en humoristische manier. \nDus geen adviezen over medicatie\, maar nuttige tips om jouw lichaam weer gezond en in balans te krijgen en hoe je je levensverwachting verlengt. \nNaast de zeer verhelderende theorie\, wordt ook de praktijk beoefend door middel van meditatie hoe je jouw systeem aanzet tot zelfhelend vermogen. \nWat leer je in deze lezing\n✔️ de zin en onzin van alle opgelegde regels mbt COVID-19\n✔️ De zin en onzin van de geplande vaccinatie\n✔️ Hoe je immuunsysteem reageert in stress en negatieve emoties\n✔️ Hoe epigenetica werkt – hoe genen gedeactiveerd of geactiveerd worden\n✔️ Hoe je darmflora depressie kan beïnvloeden\n✔️ Hoe gebeurtenissen een conditionering zijn voor vele ziektes\n✔️ Hoe het placebo en nocebo effect werkt\n✔️ Het effect van yoga en beweging op gezondheid\n✔️ Het effect van meditatie op genezing\n✔️ Je krijgt een oefening om je zelfhelend vermogen te activeren \nVoor wie wel op 1\,5 meter afstand wil zitten\, is dat mogelijk\nMaar weet wel dat je deze dag van Pierre hoort\, dat dit zinloos is mbt het virus \nPraktische informatie\n* Locatie Quinta Essentia\n* Vanaf 14:00 kan je komen\n* Tickets €25\n* Gratis parkeren\n* Vlakbij Haarlem\n* 30 minuten vanaf het station Haarlem met bus 300 (gaat elke 5 minuten vanaf Amsterdam\, Schiphol en Haarlem) \n(link facebook 
URL:https://keytohealth.nl/event/hoe-stress-je-ziek-maakt-zelfhelend-vermogen-pierre-capel/
LOCATION:Quinta Essentia\, Spieringweg 913\, Zwaanshoek\, Noord-Holland\, 2042PK\, Nederland
ORGANIZER;CN="Key To Health":MAILTO:silvia@keytohealth.nl
GEO:52.3231007;4.6384544
X-APPLE-STRUCTURED-LOCATION;VALUE=URI;X-ADDRESS=Quinta Essentia Spieringweg 913 Zwaanshoek Noord-Holland 2042PK Nederland;X-APPLE-RADIUS=500;X-TITLE=Spieringweg 913:geo:4.6384544,52.3231007
END:VEVENT
BEGIN:VEVENT
DTSTART;TZID=Europe/Amsterdam:20200418T140000
DTEND;TZID=Europe/Amsterdam:20200418T180000
DTSTAMP:20260422T121735
CREATED:20191219T140649Z
LAST-MODIFIED:20200221T192400Z
UID:10000003-1587218400-1587232800@keytohealth.nl
SUMMARY:Hoe emoties & stress ons ziek maken
DESCRIPTION:Het effect van stress en emoties op ons lichaam\nWist je dat onze eigen emoties ons ziek kunnen maken?\nDenk aan een burn-out\, depressie\, kanker\, diabetes 2\, chronische darmproblemen en nog veel meer. \nMaar hoe kunnen wij dit besef omzetten naar de kennis voor zelfhelend vermogen? Leer in deze lezing het effect van stress\, trauma en emoties op vele biochemische processen in het lichaam. \nJe hoort van Pierre Capel hoe wij zelf bepaalde vitale levensprocessen en onze genen zelf kunnen aansturen.\nDit doen we volgens de nieuwste wetenschappelijke inzichten\, die duidelijk maken hoe onze emoties\, via de hersenen het gebruik van ons DNA aansturen. Dit is de wetenschap van epigenetica. Positieve en negatieve gevoelens hebben een onvoorstelbaar sterke werking op het ontstaan en verloop van allerlei ziekten\, zoals onvruchtbaarheid\, aderverkalking\, depressie\, kanker\, diabetes etc.\, maar ook bij symptomen als pijn. \nDe host\nPierre van Capel is een emeritus hoogleraar experimentele immunologie\, die zich bezighield met de wetenschap. Waaronder kwantummechanica en het effect van stress en emoties op ons DNA. Daarnaast is hij is de auteur van het boek ‘Het Emotionele DNA’ \nHij legt ons haarfijn uit hoe vele ziektes ontstaan door onze emotieschommelingen en natuurlijk wat je zelf eraan kunt doen om dit om te keren. Dus geen adviezen over medicatie\, maar nuttige tips om jouw lichaam weer gezond en in balans te krijgen en hoe je je levensverwachting verlengt. \nNaast  de zeer verhelderende theorie\, wordt ook de praktijk beoefend door middel van oefeningen hoe je jouw systeem aanzet tot zelfhelend vermogen. \n \nWat leer je in deze workshop\n– Welke biochemische processen stress heeft op het lichaam\n– Hoe epigenetica werkt – hoe onze emoties genen aan of uit zetten\n– Dat de onbalans van je darmflora een grote oorzaak is van vele ziektes\n– Hoe gebeurtenissen in ons leven een conditionering zijn voor vele ziektes\n– Hoe het placebo en nocebo effect werkt\n– Wat het effect is van meditatie op het zelfhelend vermogen \nWe zullen na de theorie een hele fijne oefening doen die het zelfhelend vermogen activeert \nPraktische info\n\nGratis parkeren\nVlakbij Haarlem / Hoofddorp\n30 minuten vanaf het station Haarlem met bus 300 (gaat elke 5 minuten vanaf Haarlem\, Amsterdam en Schiphol)\n\n  \nLink naar Facebook event 
URL:https://keytohealth.nl/event/hoe-emoties-stress-ons-ziek-maken/
LOCATION:Quinta Essentia\, Spieringweg 913\, Zwaanshoek\, Noord-Holland\, 2042PK\, Nederland
CATEGORIES:Gezondheid
GEO:52.3231007;4.6384544
X-APPLE-STRUCTURED-LOCATION;VALUE=URI;X-ADDRESS=Quinta Essentia Spieringweg 913 Zwaanshoek Noord-Holland 2042PK Nederland;X-APPLE-RADIUS=500;X-TITLE=Spieringweg 913:geo:4.6384544,52.3231007
END:VEVENT
BEGIN:VEVENT
DTSTART;TZID=Europe/Amsterdam:20200404T140000
DTEND;TZID=Europe/Amsterdam:20200404T173000
DTSTAMP:20260422T121735
CREATED:20200201T141732Z
LAST-MODIFIED:20200201T152856Z
UID:10000006-1586008800-1586021400@keytohealth.nl
SUMMARY:De Kracht van Paddenstoelen vanuit de Traditionele Chinese Geneeskunde
DESCRIPTION:Leer in deze lezing over de Kracht van Paddenstoelen met een medische kwaliteit vanuit de Traditionele Chinese Geneeskunde \n\n\n \n\n\nMedicinale paddenstoelen worden al duizenden jaren gebruikt voor hun genezende effecten in plaatsen zoals China\, Rusland\, Japan en Tibet\, maar vooral in de Traditionele Chinese Geneeskunde\, die in december officieel erkend is door de World Health Organization.\n\n\n\n\n\nEr is geschat dat er over de hele wereld ca. 140.000 verschillende soorten paddenstoelen bestaan\, waarvan er inmiddels 15.000 bekend zijn. Hiervan zijn er zo’n 800 bruikbaar bij een of meerdere medische indicaties.\n\n\n \n\n\nDeze middag leer je over een aantal belangrijke paddenstoelen die grote effecten hebben op de gezondheid en hoe ze worden toegepast in de TCM\n\n\n \n\n\nEr komen ook een aantal mensen die hun verhaal delen hoe ze bijvoorbeeld genezen zijn van kanker en andere lichamelijk klachten. En een onderzoeksjournalist die jarenlang de medische onderzoeken heeft onderzocht naar de werking ervan.\n\n\n \n\n\nKortom een hele leerzame middag als je meer wilt leren\, wat je nog meer kunt doen voor effectieve natuurlijke genezing. \n\n\n \n\n\nPROGRAMMA:\n\n\n14:00- 17:30\n\n\n– Stukje voorgeschiedenis hoe vele medicijnen hun oorsprong hebben uit paddenstoelen\n\n\n– De verschillende soorten paddenstoelen die ingezet worden in de TCM bij alle mogelijke (chronische) ziektes zoals bijvoorbeeld kanker\, darmproblemen\, hart en vaatziektes\, neurologisch\, ontstekingen etc\n\n\n– Sprekers die hun verhaal willen vertellen over hun bijzondere genezingsproces\n\n\n– Het verschil van effectiviteit van lage en hoge kwaliteit paddenstoelen \n\n\n– Hoe toe te passen voor een effectief resultaat\n– Hoe het je immuunsysteem verhoogt voor bijvoorbeeld het #coronavirus\n\n\n \n\n\nLOCATIE:\n\n\n– Gratis parkeren\n\n\n– Dichtbij Hoofddorp\n\n\n– Bus 300 stopt vlakbij en gaat elke 5 min vanaf Schiphol / Amsterdam\n\n\n \n\n\nDe lezing is soms in het Nederlands en soms in het Engels\, aangezien er ook buitenlandse sprekers komen
URL:https://keytohealth.nl/event/de-kracht-van-paddenstoelen-vanuit-de-traditionele-chinese-geneeskunde/
LOCATION:Quinta Essentia\, Spieringweg 913\, Zwaanshoek\, Noord-Holland\, 2042PK\, Nederland
CATEGORIES:Gezondheid,Medicinale paddenstoelen
ORGANIZER;CN="Key To Health":MAILTO:silvia@keytohealth.nl
GEO:52.3231007;4.6384544
X-APPLE-STRUCTURED-LOCATION;VALUE=URI;X-ADDRESS=Quinta Essentia Spieringweg 913 Zwaanshoek Noord-Holland 2042PK Nederland;X-APPLE-RADIUS=500;X-TITLE=Spieringweg 913:geo:4.6384544,52.3231007
END:VEVENT
BEGIN:VEVENT
DTSTART;TZID=Europe/Amsterdam:20200321T140000
DTEND;TZID=Europe/Amsterdam:20200321T180000
DTSTAMP:20260422T121735
CREATED:20200209T121741Z
LAST-MODIFIED:20200225T120041Z
UID:10000007-1584799200-1584813600@keytohealth.nl
SUMMARY:Het belang van darmgezondheid en het effect op vele ziektes
DESCRIPTION:Alle gezondheid begint in de darmen\, zei Hippocrates 2500 jaar geleden al\nIn deze lezing gaan we uitgebreid in op het belang van een goede darmgezondheid en het microbioom. Vele ziektes ontstaan in de darmen doordat het microbioom verstoord is. Jouw weerstand en immuunsysteem worden voor het grootste deel bepaald in je darmen\, hoe je je mentaal voelt\, hoe je eten wordt verteerd en opgenomen wordt en hoe ziektes ontstaan. \nDenk aan: ziekte van Crohn\, colitis ulcerosa\, obstipatie\, kanker\, blinde darmontsteking\, reuma\, artrose\, allergieën\, sibo\, lekkende darm\, onvruchtbaarheid\, laag libido\, huidproblemen\, auto-immuunziektes\, migraine\, dementie\, depressie en nog veel meer.  \nDe laatste jaren hebben we steeds meer stress en komen er steeds meer chronische ziektes bij. Het enige wat een huisarts adviseert zijn medicijnen die niet werken met een hoop bijwerkingen en die de problemen niet weghalen. Om van je klachten af te komen\, is het heel belangrijk om eerst inzicht te krijgen in hoe het probleem is ontstaan. Je leert vandaag hoe de darmen werken en wat invloed heeft op jouw darmgezondheid\, zodat je zelf de dingen kunt gaan toepassen om je darmen weer gezond te maken. Dit is essentieel om chronische klachten te verminderen. Start bij de basis en je hebt zelf de controle terug. \nDe spreker\nJack van Dijk is orthomoleculair geneeskundige en heeft een eigen praktijk in Dordrecht genaamd Mederi\nZijn specialismes zijn o.a.: gewrichtsklachten (reuma\, artrose\, etc.)\, diabetes\, tinnitus\, bijnieruitputting (burn-out\, chronische vermoeidheid en chronische stress)\, fibromyalgie en kanker. \nWat leer je in deze lezing:\n\nWaarom o.a. stress en pathogene stoffen funest zijn voor onze darmflora\nHet effect van anti-biotica op je microbioom\nHoe je herkent of jouw darmwand een verhoogde ammoniakdoorlaatbaarheid heeft\nWaarom het grootste deel van je immuunsysteem voornamelijk in je darmen zit\nHet belang van pre- en probiotica\nHoe je voedingsovergevoeligheden kunt herkennen\nWelke voeding je darmen gezond houdt\nWat je beter niet kunt eten en waarom niet\nHet effect van meditatie op je microbioom\n\nPraktische informatie\n\nGratis parkeren\nVlakbij Schiphol\nMakkelijk bereikbaar met openbaar vervoer (bus 300 gaat elke 5 minuten vanaf Amsterdam en Schiphol)\n\nlink naar facebook event
URL:https://keytohealth.nl/event/het-belang-van-darmgezondheid-en-het-effect-op-vele-ziektes/
LOCATION:Quinta Essentia\, Spieringweg 913\, Zwaanshoek\, Noord-Holland\, 2042PK\, Nederland
CATEGORIES:Darmgezondheid
ATTACH;FMTTYPE=image/jpeg:https://keytohealth.nl/wp-content/uploads/2019/12/shutterstock_1412858405-scaled.jpg
ORGANIZER;CN="Key To Health":MAILTO:silvia@keytohealth.nl
GEO:52.3231007;4.6384544
X-APPLE-STRUCTURED-LOCATION;VALUE=URI;X-ADDRESS=Quinta Essentia Spieringweg 913 Zwaanshoek Noord-Holland 2042PK Nederland;X-APPLE-RADIUS=500;X-TITLE=Spieringweg 913:geo:4.6384544,52.3231007
END:VEVENT
BEGIN:VEVENT
DTSTART;TZID=Europe/Amsterdam:20200120T190000
DTEND;TZID=Europe/Amsterdam:20200120T230000
DTSTAMP:20260422T121735
CREATED:20191213T145248Z
LAST-MODIFIED:20200120T082829Z
UID:10000001-1579546800-1579561200@keytohealth.nl
SUMMARY:Introduction to energy healing & sound healing - Rahul Bharti
DESCRIPTION:Rahul Bharti komt weer naar Nederland op 20 januari om een workshop te geven over de basis van energie en sound healing.\nHij is een sterk intuïtieve healer en heeft al meer dan 20.000 mensen van over de hele wereld geholpen met zijn gave door middel van energy en sound healing. \nWat kan je verwachten?\nRahul zal de structuur en werking van het menselijk energetisch lichaam uitleggen. Hij heeft een lange tijd van zijn leven vele manieren geleerd van verschillende stammen en leraren van over de hele wereld. Deze oude technieken zal hij delen met ons. Daarnaast zal hij de basics van sound healing uitleggen en aan ons laten voelen wat dat in het lichaam teweegbrengt \nOver Rahul\nRahul Bharti is een empathische\, warme en charismatische man. Hij is geboren in India en hij is de oprichter en docent van The Healing Hands Centre\, gevestigd in Kathmandu\, Nepal. Hier geeft hij de combinatie van ‘oude energetische genezing’ en ‘Ancient yoga & massage’ cursussen. Rahul had een ongewone jeugd\, gekenmerkt door lange periodes van nomadisch rondzwerven. Hij leerde en leefde van healers in India\, Thailand en Sri Lanka en hij ontving transmissies over de kunst van het genezen en zorgde voor het welzijn van anderen sinds zijn vroege leeftijd. Als jongen reisde hij naar Thailand en kwam hij in aanraking met de kunst van Ancient Massage. Hij heeft daar veel kennis vergaren en zijn intuïtief inzicht ontwikkelt. Nu reist hij de hele wereld rond om zijn kennis te delen over ancient yoga massage\, energy healing\, sound healing\, self care\, detoxing & relaties. Zie hier zijn pagina op Facebook daarover. \n \nVoor wie is de workshop?\nVoor iedereen die meer wil leren over energy healing & sound healing. Dat kunnen beginners en gevorderden zijn. Rahul heeft en brede kennis van meerdere stammen van over de hele wereld. \nJe kunt ook je eigen vragen inbrengen. Rahul staat altijd open om jouw vraag daarin te beantwoorden.  We zien vaak dat mensen helemaal aan zijn lippen hangen door de info die hij met iedereen deelt. \nRahul komt terug in mei\n17 mei tot en met 25 mei is Rahul ook in Nederland! Hij geeft dan verschillende dag workshops over : \n\nANATOMIE & FYSIOLOGIE VAN HET ENERGETISCH SYSTEEM\nZELFHELENDE OEFENINGEN  VOOR HET ENERGETISCH LICHAAM\nENERGETISCHE HEALING ZORG VOOR ANDEREN\nKLANKSCHAAL HEALING BIJ JEZELF EN ANDEREN\nRELATIE PROBLEMATIEK & OPLOSSINGEN (COMMUNICATIE\, SEKSUALITEIT EN VERWACHTINGEN)\nCHI ENERGIE IN JEZELF ACTIVEREN EN IN DE FLOW LEVEN\n\nLink naar Facebookevent \n 
URL:https://keytohealth.nl/event/introductie-workshop-energy-healing-sound-healing-met-rahul-bharti/
LOCATION:Quinta Essentia\, Spieringweg 913\, Zwaanshoek\, Noord-Holland\, 2042PK\, Nederland
ORGANIZER;CN="Key To Health":MAILTO:silvia@keytohealth.nl
GEO:52.3231007;4.6384544
X-APPLE-STRUCTURED-LOCATION;VALUE=URI;X-ADDRESS=Quinta Essentia Spieringweg 913 Zwaanshoek Noord-Holland 2042PK Nederland;X-APPLE-RADIUS=500;X-TITLE=Spieringweg 913:geo:4.6384544,52.3231007
END:VEVENT
END:VCALENDAR