BEGIN:VCALENDAR
VERSION:2.0
PRODID:-//Key To Health - ECPv6.15.20//NONSGML v1.0//EN
CALSCALE:GREGORIAN
METHOD:PUBLISH
X-ORIGINAL-URL:https://keytohealth.nl
X-WR-CALDESC:Evenementen voor Key To Health
REFRESH-INTERVAL;VALUE=DURATION:PT1H
X-Robots-Tag:noindex
X-PUBLISHED-TTL:PT1H
BEGIN:VTIMEZONE
TZID:Europe/Amsterdam
BEGIN:DAYLIGHT
TZOFFSETFROM:+0100
TZOFFSETTO:+0200
TZNAME:CEST
DTSTART:20210328T010000
END:DAYLIGHT
BEGIN:STANDARD
TZOFFSETFROM:+0200
TZOFFSETTO:+0100
TZNAME:CET
DTSTART:20211031T010000
END:STANDARD
BEGIN:DAYLIGHT
TZOFFSETFROM:+0100
TZOFFSETTO:+0200
TZNAME:CEST
DTSTART:20220327T010000
END:DAYLIGHT
BEGIN:STANDARD
TZOFFSETFROM:+0200
TZOFFSETTO:+0100
TZNAME:CET
DTSTART:20221030T010000
END:STANDARD
BEGIN:DAYLIGHT
TZOFFSETFROM:+0100
TZOFFSETTO:+0200
TZNAME:CEST
DTSTART:20230326T010000
END:DAYLIGHT
BEGIN:STANDARD
TZOFFSETFROM:+0200
TZOFFSETTO:+0100
TZNAME:CET
DTSTART:20231029T010000
END:STANDARD
END:VTIMEZONE
BEGIN:VEVENT
DTSTART;TZID=Europe/Amsterdam:20221020T190000
DTEND;TZID=Europe/Amsterdam:20221020T220000
DTSTAMP:20260422T205229
CREATED:20220907T090151Z
LAST-MODIFIED:20221007T113427Z
UID:10000065-1666292400-1666303200@keytohealth.nl
SUMMARY:Plasma & GANS informatie webinar
DESCRIPTION:Op deze lezing leer je veel over wat Plasma en GANS is. Je gaat leren hoe je Plasma en GANS materialen in kan gaan zetten voor heling. Door het voor emotionele en fysieke klachten te gebruiken voor sneller herstel\, pijnvermindering\, emotionele gezondheid en nog zo veel meer! \nDat hoor je allemaal in deze webinar. Deze avond wordt een zeer inspirerende avond waarbij een ieder de mogelijkheid heeft om ook de juiste plasma pads te kopen van mij op de locatie of op bestelling. Na de avond weet je welke je zelf kunt gaan nemen en uiteindelijk ook gaan maken. \nPlasma GANS healing \nPlasma en GANS zijn ongelofelijk krachtige tools om mee te werken! Wat je dus zelf ook nog kan maken. Het is pure alchemie waarbij een krachtige vloeistof ontstaat\, die enorme helende krachten bevat. Plasma wetenschap en technologie zal de manier waarop je de wereld begrijpt veranderen. Het gaat over hoe de energie in het universum zich gedraagt. De afgelopen eeuw werd er vooral gekeken naar hoe materie zich gedroeg\, deze eeuw gaan we meer naar de energie\, plasma en elektronen kijken\, hoe alles zich met elkaar verhoudt mbt zwaartekracht en magnetische kracht. \nWant Plasma en GANS technologie\, zoals het wordt genoemd\, is zelf te maken. Deze avond gaan we dat nog niet doen\, maar ik leg je wel het een en ander uit\, zodat je daar meer van snapt. In november zal ik dan ook een workshop geven met Maarten waarin je het zelf kan gaan maken. Dit is de informatie avond\, waarin jij kan kijken of dit wat voor jou is. \nIk ga het deze avond hebben over een van de nieuwste manieren van heling\n\nUniversal Body Enhancement Spaceship Unit\nPlasma healing\nVerschillende soorten GANS\nWaar kan je het voor gebruiken\nVoorbeelden van heling\nHoe kan je het maken\, wat heb je nodig\nKeshe Foundation\nVrije energie\n\nOp deze avond kan je je ook als eerste opgeven voor de workshop om GANS plasma zelf te gaan maken\, voor november! Wees hier dus bij als je dit zelf wilt leren en wilt gaan inzetten voor jezelf! \nWil je ook de workshop volgen om GANS en plasma zelf te maken\, dat kan in Alkmaar op 29 oktober in de ochtend of de middag\, inclusief het materiaal om het te maken. \nReactie van een client van mij vorige week\n\n\n\n\n\n\n\n\n\n\n\n\n\nDoor een val op de rand van het bad waren mijn ribben gekneusd. Ik had er veel last van\, overdag en snachts\, en ik kon weinig doen in het huishouden. Belemmerend en pijnlijk. Na anderhalve week kreeg ik een behandeling van Silvia met de Violet Ray lamp en Plasma healing technologie. De volgende dag waren mijn klachten nagenoeg verdwenen en was ik weer in staat om een en ander te doen! Ik was erg blij mee en kan het iederen aanraden mee soortgelijke klachten.\n\n\n\n\n\n\n\n\n\n\nTot 20 oktober online!\n\n\nTot ziens\n\nSilvia Hoevenaar\n\n\n\n\n\n\nKom in de Facebook groep over de Magie van Frequentietherapie\n\n\n\n\n\nhttps://www.facebook.com/groups/frequentietherapie \nOf kijk de webinar op 22 september over de Magie van Frequentietherapie \nhttps://www.facebook.com/events/1465751477222988?ref=newsfeed
URL:https://keytohealth.nl/event/plasma-gans-informatie-webinar/
LOCATION:Key To Health 2\, Cornelis Slegerstraat 6\, Zandvoort\, 2042GP\, Nederland
CATEGORIES:Alchemie,energy healing,Gezondheid,Plasma
ATTACH;FMTTYPE=image/png:https://keytohealth.nl/wp-content/uploads/2022/09/Zonder-titel-1640-x-800-px-5.png
ORGANIZER;CN="Key To Health":MAILTO:silvia@keytohealth.nl
GEO:52.3730052;4.5394322
X-APPLE-STRUCTURED-LOCATION;VALUE=URI;X-ADDRESS=Key To Health 2 Cornelis Slegerstraat 6 Zandvoort 2042GP Nederland;X-APPLE-RADIUS=500;X-TITLE=Cornelis Slegerstraat 6:geo:4.5394322,52.3730052
END:VEVENT
END:VCALENDAR