BEGIN:VCALENDAR
VERSION:2.0
PRODID:-//Key To Health - ECPv6.15.20//NONSGML v1.0//EN
CALSCALE:GREGORIAN
METHOD:PUBLISH
X-WR-CALNAME:Key To Health
X-ORIGINAL-URL:https://keytohealth.nl
X-WR-CALDESC:Evenementen voor Key To Health
REFRESH-INTERVAL;VALUE=DURATION:PT1H
X-Robots-Tag:noindex
X-PUBLISHED-TTL:PT1H
BEGIN:VTIMEZONE
TZID:Europe/Amsterdam
BEGIN:DAYLIGHT
TZOFFSETFROM:+0100
TZOFFSETTO:+0200
TZNAME:CEST
DTSTART:20200329T010000
END:DAYLIGHT
BEGIN:STANDARD
TZOFFSETFROM:+0200
TZOFFSETTO:+0100
TZNAME:CET
DTSTART:20201025T010000
END:STANDARD
BEGIN:DAYLIGHT
TZOFFSETFROM:+0100
TZOFFSETTO:+0200
TZNAME:CEST
DTSTART:20210328T010000
END:DAYLIGHT
BEGIN:STANDARD
TZOFFSETFROM:+0200
TZOFFSETTO:+0100
TZNAME:CET
DTSTART:20211031T010000
END:STANDARD
BEGIN:DAYLIGHT
TZOFFSETFROM:+0100
TZOFFSETTO:+0200
TZNAME:CEST
DTSTART:20220327T010000
END:DAYLIGHT
BEGIN:STANDARD
TZOFFSETFROM:+0200
TZOFFSETTO:+0100
TZNAME:CET
DTSTART:20221030T010000
END:STANDARD
END:VTIMEZONE
BEGIN:VEVENT
DTSTART;TZID=Europe/Amsterdam:20210912T140000
DTEND;TZID=Europe/Amsterdam:20210912T180000
DTSTAMP:20260425T041633
CREATED:20210710T192335Z
LAST-MODIFIED:20210910T183043Z
UID:10000033-1631455200-1631469600@keytohealth.nl
SUMMARY:Workshop stembevrijding
DESCRIPTION:Sta jij waarlijk in je kracht? Echt in je kracht staan is ook echt in je lichaam aanwezig zijn. Door echt in je lijf aanwezig te zijn\, voel je en ervaar je vaak ook de eventuele ongemakken. Wat weer een mooie uitnodiging is om het los te laten. \nAlles is energie. Alles heeft een frequentie. Zo ook elke emotie. Wat we niet loslaten kan in je lijf aanwezig zijn\, of we plaatsen het nog buiten onszelf\, waardoor het wel in je energie veld aanwezig is. Wat weer kan zorgen voor een herhaaldelijk patroon in je dagelijkse leven. In deze workshop gaan we aan de slag met de emoties en wat er nog aanwezig is in het lijf\, wat je weerhoudt om echt in je kracht te gaan staan. \nWeer ruimte maken voor je eigen energie. In alle veiligheid gaan we deze middag aan de slag. \nDoormiddel van klanken. Doormiddel van muziek. Geluid en je stem geven aan wat er in jou aanwezig is. Elke klank heeft een eigen frequentie\, een vibratie. Die je weer kunt veranderen door je eigen stem en bewegingen van het lijf. Geef je over aan jezelf. Meer heb je niet nodig.  Wij willen graag de drempel voor je wegnemen. \nWat kun je verwachten?\n\nWe gaan met de ademhaling aan de slag. ( Fire breathing)\nDe gronding ( aanwezig zijn in het lijf).\nStem en vorm geven aan je eigen frequentie en emoties.\nIn Balans brengen van het hart en de keel. Je waarheid durven te delen.\n\nWaar sta jij voor? Waar wil je voor gaan? Sta jij in je kracht?\nDeze middag is er om jou daar in te begeleiden\, waar Rowena van Elk je in ondersteund. Zij is een healer\, en helpt mensen via coaching en ceremonies weer in hun kracht te zetten\, maar ook via het werken met lichtwezens en haar spirits. Ze heeft heldere gaves om in de andere dimensies te voelen en kijken waar ze ook in deze workshop mee werkt\, om dieper de blokkades te zien en voelen die er spelen in jou \n \nLocatie waar de workshop wordt gehouden
URL:https://keytohealth.nl/event/workshop-stembevrijding/
LOCATION:I Am Yoga\, Visserspad 10\, Krommenie\, ​1561 PK\, Nederland
CATEGORIES:Zelfcompassie
ATTACH;FMTTYPE=image/png:https://keytohealth.nl/wp-content/uploads/2021/07/Kopie-van-Kopie-van-Kopie-van-Kopie-van-Kopie-van-Kopie-van-Kopie-van-Kopie-van-Kopie-van-Kopie-van-Kopie-van-Kopie-van-Kopie-van-Zonder-titel-10.png
ORGANIZER;CN="Key To Health":MAILTO:silvia@keytohealth.nl
GEO:52.5034929;4.7737805
X-APPLE-STRUCTURED-LOCATION;VALUE=URI;X-ADDRESS=I Am Yoga Visserspad 10 Krommenie ​1561 PK Nederland;X-APPLE-RADIUS=500;X-TITLE=Visserspad 10:geo:4.7737805,52.5034929
END:VEVENT
END:VCALENDAR